BEGIN:VCALENDAR
VERSION:2.0
PRODID:-//美國在台協會 - ECPv6.2.5//NONSGML v1.0//EN
CALSCALE:GREGORIAN
METHOD:PUBLISH
X-WR-CALNAME:美國在台協會
X-ORIGINAL-URL:https://www.ait.org.tw
X-WR-CALDESC:Events for 美國在台協會
REFRESH-INTERVAL;VALUE=DURATION:PT1H
X-Robots-Tag:noindex
X-PUBLISHED-TTL:PT1H
BEGIN:VTIMEZONE
TZID:Asia/Shanghai
BEGIN:STANDARD
TZOFFSETFROM:+0800
TZOFFSETTO:+0800
TZNAME:CST
DTSTART:20230101T000000
END:STANDARD
END:VTIMEZONE
BEGIN:VEVENT
DTSTART;VALUE=DATE:20231009
DTEND;VALUE=DATE:20231010
DTSTAMP:20231127T051000
CREATED:20220322T100215Z
LAST-MODIFIED:20221227T071636Z
UID:9675-1696809600-1696895999@www.ait.org.tw
SUMMARY:哥倫布日 Columbus Day
DESCRIPTION:
URL:https://www.ait.org.tw/zhtw/event/%e5%93%a5%e5%80%ab%e5%b8%83%e6%97%a5-columbus-day-%e9%9b%99%e5%8d%81%e7%af%80%e5%8f%b0%e7%81%a3%e5%81%87%e6%97%a5/
END:VEVENT
END:VCALENDAR