BEGIN:VCALENDAR
VERSION:2.0
PRODID:-//美國在台協會 - ECPv6.2.5//NONSGML v1.0//EN
CALSCALE:GREGORIAN
METHOD:PUBLISH
X-WR-CALNAME:美國在台協會
X-ORIGINAL-URL:https://www.ait.org.tw
X-WR-CALDESC:Events for 美國在台協會
REFRESH-INTERVAL;VALUE=DURATION:PT1H
X-Robots-Tag:noindex
X-PUBLISHED-TTL:PT1H
BEGIN:VTIMEZONE
TZID:Asia/Shanghai
BEGIN:STANDARD
TZOFFSETFROM:+0800
TZOFFSETTO:+0800
TZNAME:CST
DTSTART:20230101T000000
END:STANDARD
END:VTIMEZONE
BEGIN:VEVENT
DTSTART;VALUE=DATE:20231225
DTEND;VALUE=DATE:20231226
DTSTAMP:20231127T050745
CREATED:20220322T100549Z
LAST-MODIFIED:20231117T053401Z
UID:9685-1703462400-1703548799@www.ait.org.tw
SUMMARY:聖誕節 Christmas Day
DESCRIPTION:
URL:https://www.ait.org.tw/zhtw/event/%e8%81%96%e8%aa%95%e7%af%80-christmas-days/
END:VEVENT
END:VCALENDAR