BEGIN:VCALENDAR
VERSION:2.0
PRODID:-//美國在台協會 - ECPv6.2.5//NONSGML v1.0//EN
CALSCALE:GREGORIAN
METHOD:PUBLISH
X-WR-CALNAME:美國在台協會
X-ORIGINAL-URL:https://www.ait.org.tw
X-WR-CALDESC:Events for 美國在台協會
REFRESH-INTERVAL;VALUE=DURATION:PT1H
X-Robots-Tag:noindex
X-PUBLISHED-TTL:PT1H
BEGIN:VTIMEZONE
TZID:Asia/Shanghai
BEGIN:STANDARD
TZOFFSETFROM:+0800
TZOFFSETTO:+0800
TZNAME:CST
DTSTART:20230101T000000
END:STANDARD
END:VTIMEZONE
BEGIN:VEVENT
DTSTART;VALUE=DATE:20230704
DTEND;VALUE=DATE:20230705
DTSTAMP:20231127T052710
CREATED:20220322T095914Z
LAST-MODIFIED:20231114T054912Z
UID:9665-1688428800-1688515199@www.ait.org.tw
SUMMARY:獨立紀念日 Independence Day
DESCRIPTION:
URL:https://www.ait.org.tw/zhtw/event/%e7%8d%a8%e7%ab%8b%e7%b4%80%e5%bf%b5%e6%97%a5-independence-day/
END:VEVENT
END:VCALENDAR