BEGIN:VCALENDAR
VERSION:2.0
PRODID:-//美國在台協會 - ECPv6.2.5//NONSGML v1.0//EN
CALSCALE:GREGORIAN
METHOD:PUBLISH
X-WR-CALNAME:美國在台協會
X-ORIGINAL-URL:https://www.ait.org.tw
X-WR-CALDESC:Events for 美國在台協會
REFRESH-INTERVAL;VALUE=DURATION:PT1H
X-Robots-Tag:noindex
X-PUBLISHED-TTL:PT1H
BEGIN:VTIMEZONE
TZID:Asia/Shanghai
BEGIN:STANDARD
TZOFFSETFROM:+0800
TZOFFSETTO:+0800
TZNAME:CST
DTSTART:20240101T000000
END:STANDARD
END:VTIMEZONE
BEGIN:VEVENT
DTSTART;TZID=Asia/Shanghai:20241206T080000
DTEND;TZID=Asia/Shanghai:20241206T170000
DTSTAMP:20231127T052713
CREATED:20231114T071246Z
LAST-MODIFIED:20231114T071246Z
UID:31555-1733472000-1733504400@www.ait.org.tw
SUMMARY:台北辦事處領事組 內部職訓日 (不對外作業)
DESCRIPTION:
URL:https://www.ait.org.tw/zhtw/event/%e5%8f%b0%e5%8c%97%e8%be%a6%e4%ba%8b%e8%99%95%e9%a0%98%e4%ba%8b%e7%b5%84-%e5%85%a7%e9%83%a8%e8%81%b7%e8%a8%93%e6%97%a5-%e4%b8%8d%e5%b0%8d%e5%a4%96%e4%bd%9c%e6%a5%ad-10/
END:VEVENT
END:VCALENDAR